Workbook

Sheet Hoja1
A1: Localización | B1: EEUU | D1: =VLOOKUP(B1,'Tablas de Selección'!C9:D11,2,0) -> EEUU | J1: La lista que aparecerá en cada menú dependerá de las opciones seleccionadas en los menús anteriores
A2: Servicio Militar | B2: Infante de marina | D2: =VLOOKUP(B2,'Tablas de Selección'!C14:D38,2,0) -> Infante de marina
A3: Agencia | B3: Oficina Federal de Investigación (FBI) | D3: =VLOOKUP(B3,'Tablas de Selección'!C41:D55,2,0) -> Oficina Federal de Investigación (FBI) | J3: Seleccionar la opción deseada en cada menú y pulsar F9 antes de seleccionar la del siguiente menú
A4: Trasfondo | B4: Agente especial del FBI | D4: =VLOOKUP(B4,'Tablas de Selección'!C103:D164,2,0) -> Agente especial del FBI
A5: Vinculos | B5: Random | D5: =VLOOKUP(B5,'Tablas de Selección'!$C$2:$F$5,2,0) -> 1 | J5: Se pueden seleccionar en cualquier momento y se aplicaran al generar el siguiente Agente
A6: Perfil | B6: Random | D6: =VLOOKUP(B6,'Tablas de Selección'!$C$167:$D$172,2,0) -> Mañoso
A7: Puntos de Construcción para Investigación | B7: 20 | D7: =B7+'Tablas de Selección'!E2 -> 24 | J7: Pulsar F9 para Generar el nuevo Agente
A8: Puntos de Construcción Capacidades Generales | B8: 65 | D8: =B8+'Tablas de Selección'!F2 -> 65
A9: Motivación | B9: Random | D9: =VLOOKUP(B9,'Tablas de Selección'!$C$175:$D$183,2,0) -> Venganza
A10: Revelación | B10: Random | D10: =VLOOKUP(B10,'Tablas de Selección'!$C$187:$D$192,2,0) -> Cosas que la humanidad no debería saber
A11: Estabilidad Max | B11: 15
A12: Cordura Max | B12: 15
A13: Salud Max | B13: 15
A14: Estabilidad Min | B14: 8
A15: Cordura Min | B15: 8
A16: Salud Min | B16: 8
A17: Generar Nombre Aleatorio | B17: Si
A18: Genero | B18: Masculino | D18: =IF(D2="Capellan","Masculino",IF(D2="Capellan en servicio activo","Masculino",VLOOKUP(B18,'Tablas de Selección'!$C$196:$D$198,2,0))) -> Masculino
D21: DETALLES DEL AGENTE | U21: VINCULOS
D22: Nombre del Jugador: | L22: Hoja de Servicio | U22: Vinculos | W22: Vinculos en Delta Green
D23: Nombre del Agente: | K23: =IF(B17="Si",IF(D18="Masculino",Hoja3!C1&" "&Hoja3!H1,Hoja3!D1&" "&Hoja3!H1),"") -> Preston Howard | L23: Servicio militar: | T23: =IF(K27="Servicio activo",'Rango Militar'!B23,D2) -> Infante de marina | V23: =IF(D5>0,MAX(N45,N56,N60,N50)+1,"") -> 2
D24: Edad y fecha de nac: | L24: Entrenamiento Especial (Habilidad): | V24: =IF(D5>1,MAX(N45,N56,N60,N50)+1,"")
D25: Nacionalidad: | L25: Entrenamiento Especial (Arma): | V25: =IF(D5>2,MAX(N45,N56,N60,N50)+1,"")
D26: Rama/Departamento: | K26: =D3 -> Oficina Federal de Investigación (FBI) | L26: Hipergeometría | V26: =IF(D5>3,MAX(N45,N56,N60,N50)+1,"")
D27: Profesión/Rango: | K27: =D4 -> Agente especial del FBI | L27: Potencial: | Q27: Valor: | U27: CONTACTOS
D28: Educación: | L28: Adaptado a: | U28: Nombre | W28: Notas
D29: Motivación: | K29: =D9 -> Venganza | L29: Violencia | N29: =IF(Revelación!$C$71=3,"X","") | O29: =IF(Revelación!$C$71=3,"X","") | P29: =IF(Revelación!$C$71=3,"X","") | Q29: Impotencia | R29: =IF(Revelación!$C$72=3,"X","") | S29: =IF(Revelación!$C$72=3,"X","") | T29: =IF(Revelación!$C$72=3,"X","")
D30: HOJA DE REGISTRO | H30: HOJA DE SERVICIO/BIOGRAFÍA
D31: DEL AGENTE
H35: EVENTO INCITADOR: | J35: =IF(D10="Ninguna","",D10) -> Cosas que la humanidad no debería saber
D37: Habilidades Generales | H37: ESTABILIDAD | K37: =VLOOKUP(H37,'H Generales'!$E$5:$Z$27,22,0) -> 8 | L37: CORDURA | P37: =VLOOKUP(L37,'H Generales'!$E$5:$Z$27,22,0) -> 7 | Q37: SALUD | T37: =VLOOKUP(Q37,'H Generales'!$E$5:$Z$27,22,0) -> 8 | U37: Reserva de Contactos sin gastar: | X37: =VLOOKUP("Contactos",'H Generales'!$E$5:$Z$27,22,0) -> 2
D38: Armas cuerpo a cuerpo | E38: =VLOOKUP(D38,'H Generales'!$E$5:$Z$27,22,0) -> 2 | U38: TASTORNOS
D39: Armas de fuego | E39: =VLOOKUP(D39,'H Generales'!$E$5:$Z$27,22,0) -> 7 | X39: Dif+
D40: Armas pesadas | E40: =VLOOKUP(D40,'H Generales'!$E$5:$Z$27,22,0) -> 1 | U40: =IF(Revelación!C74=0,"",Revelación!C74) -> Pesadillas | X40: =IF(U40<>"",4,"") -> 4
D41: Atletismo | E41: =VLOOKUP(D41,'H Generales'!$E$5:$Z$27,22,0) -> 8
D42: Birlar | E42: =VLOOKUP(D42,'H Generales'!$E$5:$Z$27,22,0)
D43: Burocracia | E43: =VLOOKUP(D43,'H Generales'!$E$5:$Z$27,22,0) -> 8 | H43: CAPACIDADES DE INVESTIGACIÓN
D44: Combate sin armas | E44: =VLOOKUP(D44,'H Generales'!$E$5:$Z$27,22,0) -> 6 | H44: Capacidades Académicas | L44: Capacidades Interpersonales | Q44: Capacidades Técnicas
D45: Conducir | E45: =VLOOKUP(D45,'H Generales'!$E$5:$Z$27,22,0) -> 7 | H45: Antropología | J45: =VLOOKUP(H45,'H Investigación'!$C$3:$K$44,9,0) -> 1 | L45: Adulación | N45: =VLOOKUP(L45,'H Investigación'!$C$3:$K$44,9,0) -> 0 | Q45: Análisis de tráfico | R45: =VLOOKUP(Q45,'H Investigación'!$C$3:$K$44,9,0) -> 0 | U45: EQUIPO/ARMAS
H46: Arqueología | J46: =VLOOKUP(H46,'H Investigación'!$C$3:$K$44,9,0) -> 0 | L46: Agencia | N46: =VLOOKUP(L46,'H Investigación'!$C$3:$K$44,9,0) -> 3 | Q46: Arquitectura | R46: =VLOOKUP(Q46,'H Investigación'!$C$3:$K$44,9,0) -> 0
...

Sheet Hoja2
M3: Nombre del Jugador: | S3: Hoja de Servicio
M4: Nombre del Agente: | S4: Servicio militar:
M5: Edad y fecha de nac: | S5: Entrenamiento Especial (Habilidad):
H6: 0 | M6: Nacionalidad: | S6: Entrenamiento Especial (Arma):
F7: 1 | G7: 2 | H7: 3 | M7: Rama/Departamento: | S7: Hipergeometría
F8: 4 | G8: 5 | H8: 6 | M8: Profesión/Rango: | S8: Potencial: | W8: Valor:
F9: 7 | G9: 8 | H9: 9 | M9: Educación: | S9: Adaptado a:
F10: 10 | G10: 11 | H10: 12 | M10: Motivación: | S10: Violencia | W10: Impotencia
F11: 13 | G11: 14 | H11: 15
F14: 14 | G14: 13 | H14: 12
F15: 11 | G15: 10 | H15: 9
F16: 8 | G16: 7 | H16: 6
F17: 5 | G17: 4 | H17: 3
F18: 2 | G18: 1 | H18: 0
A20: Estabilidad | F20: Salud
A21: -12 | B21: -11 | C21: -10 | D21: -9 | F21: -12 | G21: -11 | H21: -10 | I21: -9
A22: -8 | B22: -7 | C22: -6 | D22: -5 | F22: -8 | G22: -7 | H22: -6 | I22: -5
A23: -4 | B23: -3 | C23: -2 | D23: -1 | F23: -4 | G23: -3 | H23: -2 | I23: -1
A24: 0 | B24: 1 | C24: 2 | D24: 3 | F24: 0 | G24: 1 | H24: 2 | I24: 3
A25: 4 | B25: 5 | C25: 6 | D25: 7 | F25: 4 | G25: 5 | H25: 6 | I25: 7
A26: 8 | B26: 9 | C26: 10 | D26: 11 | F26: 8 | G26: 9 | H26: 10 | I26: 11
A27: 12 | B27: 13 | C27: 14 | D27: 15 | F27: 12 | G27: 13 | H27: 14 | I27: 15

Sheet Tablas de Selección
E1: ptos Investigacion | F1: ptos Generales
C2: Random | D2: =RANDBETWEEN(1,3) -> 1 | E2: =VLOOKUP(D2,D3:F5,2,0) -> 4 | F2: =VLOOKUP(D2,D3:F5,3,0) -> 0
C3: 1 | D3: 1 | E3: =RANDBETWEEN(0,4) -> 4 | F3: =(4-E3)*3 -> 0
C4: 2 | D4: 2 | E4: =RANDBETWEEN(0,2) -> 1 | F4: =(2-E4)*3 -> 3
C5: 3 | D5: 3 | E5: 0 | F5: 0
C9: Random | D9: =IF(RANDBETWEEN(1,2)=1,"EEUU","MUNDO") -> EEUU
C10: EEUU | D10: EEUU
C11: MUNDO | D11: MUNDO
C14: Random | D14: =VLOOKUP(RANDBETWEEN(1,23),B15:D37,3,0) -> Psiquiatra
B15: 1 | C15: Sin servicio | D15: Sin servicio
B16: 2 | C16: Alistamiento en tiemposde paz | D16: Alistamiento en tiemposde paz
B17: 3 | C17: Capellan | D17: Capellan
A18: 1 | B18: 4 | C18: Capellan en servicio activo | D18: Capellan en servicio activo | E18: 1
B19: 5 | C19: Médico | D19: Médico
A20: 1 | B20: 6 | C20: Médico en servicio activo | D20: Médico en servicio activo | E20: 1
A21: 1 | B21: 7 | C21: Cuerpo médico del ejército | D21: Cuerpo médico del ejército | E21: 1
A22: 1 | B22: 8 | C22: Psiquiatra | D22: Psiquiatra | E22: 1
B23: 9 | C23: Marinero | D23: Marinero
A24: 1 | B24: 10 | C24: Marinero en servicio activo | D24: Marinero en servicio activo | E24: 1
B25: 11 | C25: Piloto | D25: Piloto
A26: 1 | B26: 12 | C26: Piloto en servicio activo | D26: Piloto en servicio activo | E26: 1
B27: 13 | C27: Guardia costera | D27: Guardia costera
A28: 1 | B28: 14 | C28: Guardia costera en servicio activo | D28: Guardia costera en servicio activo | E28: 1
A29: 1 | B29: 15 | C29: Operador en USAFSS Big Eye | D29: Operador en USAFSS Big Eye | E29: 1
B30: 16 | C30: Soldado | D30: Soldado
A31: 1 | B31: 17 | C31: Soldado en servicio activo | D31: Soldado en servicio activo | E31: 1
B32: 18 | C32: Infante de marina | D32: Infante de marina
A33: 1 | B33: 19 | C33: Infante de marina en servicio activo | D33: Infante de marina en servicio activo | E33: 1
B34: 20 | C34: Grupo de Operaciones Psicológicas (Ejercito de los EEUU) | D34: Grupo de Operaciones Psicológicas (Ejercito de los EEUU)
A35: 1 | B35: 21 | C35: Grupo de Operaciones Psicológicas en servicio activo (Ejercito de los EEUU) | D35: Grupo de Operaciones Psicológicas en servicio activo (Ejercito de los EEUU) | E35: 1
B36: 22 | C36: Especialista en Inteligencia Urbana de USAIC | D36: Especialista en Inteligencia Urbana de USAIC
A37: 1 | B37: 23 | C37: Fuerzas especiales | D37: ='Rango Militar'!T24 -> SEAL | E37: 1
C41: Random | D41: =IFERROR(VLOOKUP(RANDBETWEEN(1,MAX(B42:B100)),B42:D100,3,0),"") -> Agencia de Seguridad Nacional (NSA)
A42: 1 | B42: =IF(C42<>"",A42,"") -> 1 | C42: ='Tabla de posibilidad Pos Ag'!C34 -> Agencia de proyectos de investigación avanzada (ARPA) | D42: ='Tabla de posibilidad Pos Ag'!C34 -> Agencia de proyectos de investigación avanzada (ARPA)
A43: 2 | B43: =IF(C43="","",IF(C43=C42,B42,B42+1)) -> 2 | C43: ='Tabla de posibilidad Pos Ag'!D34 -> Comisión dela Energía Atómica (AEC) | D43: ='Tabla de posibilidad Pos Ag'!D34 -> Comisión dela Energía Atómica (AEC)
A44: 3 | B44: =IF(C44="","",IF(C44=C43,B43,B43+1)) -> 3 | C44: ='Tabla de posibilidad Pos Ag'!E34 -> Agencia Central de Inteligencia (CIA) | D44: ='Tabla de posibilidad Pos Ag'!E34 -> Agencia Central de Inteligencia (CIA)
A45: 4 | B45: =IF(C45="","",IF(C45=C44,B44,B44+1)) -> 3 | C45: ='Tabla de posibilidad Pos Ag'!F34 -> Agencia Central de Inteligencia (CIA) | D45: ='Tabla de posibilidad Pos Ag'!F34 -> Agencia Central de Inteligencia (CIA)
A46: 5 | B46: =IF(C46="","",IF(C46=C45,B45,B45+1)) -> 3 | C46: ='Tabla de posibilidad Pos Ag'!G34 -> Agencia Central de Inteligencia (CIA) | D46: ='Tabla de posibilidad Pos Ag'!G34 -> Agencia Central de Inteligencia (CIA)
A47: 6 | B47: =IF(C47="","",IF(C47=C46,B46,B46+1)) -> 3 | C47: ='Tabla de posibilidad Pos Ag'!H34 -> Agencia Central de Inteligencia (CIA) | D47: ='Tabla de posibilidad Pos Ag'!H34 -> Agencia Central de Inteligencia (CIA)
A48: 7 | B48: =IF(C48="","",IF(C48=C47,B47,B47+1)) -> 3 | C48: ='Tabla de posibilidad Pos Ag'!I34 -> Agencia Central de Inteligencia (CIA) | D48: ='Tabla de posibilidad Pos Ag'!I34 -> Agencia Central de Inteligencia (CIA)
...

Sheet Rango Militar
T1: =VLOOKUP($U$1,$U$2:$X$24,4,0) -> Psiquiatra | U1: ='Tablas de Selección'!D14 -> Psiquiatra | W1: {=_xlfn.UNIQUE(W2:W24,0,1)} -> Both | Y1: =RANDBETWEEN(1,2) -> 2 | Z1: =IF(W1="Both",VLOOKUP(Y1,Y2:Z3,2,0),W1) -> Mar
C2: Cabo | D2: Cabo | E2: Suboficial | F2: Suboficial | G2: Sargento primero | H2: Contramaestre en Jefe | I2: Alferez | J2: Alferez de fragata | K2: Teniente | L2: Alferez de Navío | M2: Capitán | N2: Teniente de navío | O2: Comandante | P2: Teniente Coronel | Q2: Comandante | R2: Teniente Coronel | T2: Sin servicio | U2: Sin servicio | V2: No | W2: =IF(U2=$U$1,V2,"") | X2: =T2 -> Sin servicio | Y2: =RANDBETWEEN(1,2) -> 1 | Z2: Tierra
C3: Tierra | D3: Mar | E3: Tierra | F3: Mar | G3: Tierra | H3: Mar | I3: Tierra | J3: Mar | K3: Tierra | L3: Mar | M3: Tierra | N3: Mar | O3: Tierra | P3: Tierra | Q3: Mar | R3: Mar | T3: Alistamiento en tiemposde paz | U3: Alistamiento en tiemposde paz | V3: No | W3: =IF(U3=$U$1,V3,"") | X3: =T3 -> Alistamiento en tiemposde paz | Y3: =IF(Y2=1,2,1) -> 2 | Z3: Mar
A4: =Hoja1!N58 -> 3 | B4: Intimidación | E4: 1 | F4: 1 | G4: 2 | H4: 2 | T4: Capellan | U4: Capellan | V4: No | W4: =IF(U4=$U$1,V4,"") | X4: =T4 -> Capellan
A5: =Hoja1!J49 -> 1 | B5: Ciencia militar | E5: 1 | F5: 1 | G5: 2 | H5: 2 | I5: 1 | J5: 1 | K5: 2 | L5: 2 | M5: 2 | N5: 2 | O5: 2 | P5: 2 | Q5: 2 | R5: 2 | T5: Capellan | U5: Capellan en servicio activo | V5: Both | W5: =IF(U5=$U$1,V5,"") | X5: =T5 -> Capellan
A6: =Hoja1!N56 -> 1 | B6: Inspiración | G6: 1 | H6: 1 | K6: 1 | L6: 1 | M6: 1 | N6: 1 | O6: 1 | P6: 1 | Q6: 1 | R6: 1 | T6: Médico | U6: Médico | V6: No | W6: =IF(U6=$U$1,V6,"") | X6: =T6 -> Médico
A7: =Hoja1!N46 -> 3 | B7: Agencia | M7: 1 | N7: 1 | O7: 3 | P7: 3 | Q7: 3 | R7: 3 | T7: Médico | U7: Médico en servicio activo | V7: Both | W7: =IF(U7=$U$1,V7,"") | X7: =T7 -> Médico
T8: Cuerpo médico del ejército | U8: Cuerpo médico del ejército | V8: Tierra | W8: =IF(U8=$U$1,V8,"") | X8: =T8 -> Cuerpo médico del ejército
A9: =Hoja1!K37 -> 8 | B9: Estabilidad | G9: 6 | H9: 6 | M9: 5 | N9: 5 | O9: 6 | P9: 6 | Q9: 6 | R9: 6 | T9: Psiquiatra | U9: Psiquiatra | V9: Both | W9: =IF(U9=$U$1,V9,"") -> Both | X9: =T9 -> Psiquiatra
A10: =Hoja1!E43 -> 8 | B10: Burocracia | O10: 5 | P10: 5 | Q10: 5 | R10: 5 | T10: Marinero | U10: Marinero | V10: No | W10: =IF(U10=$U$1,V10,"") | X10: =T10 -> Marinero
T11: Marinero | U11: Marinero en servicio activo | V11: Mar | W11: =IF(U11=$U$1,V11,"") | X11: =T11 -> Marinero
T12: Piloto | U12: Piloto | V12: No | W12: =IF(U12=$U$1,V12,"") | X12: =T12 -> Piloto
C13: =IF(C3=$Z$1,0,1) -> 1 | D13: =IF(D3=$Z$1,0,1) -> 0 | E13: =IF(E3=$Z$1,0,1) -> 1 | F13: =IF(F3=$Z$1,0,1) -> 0 | G13: =IF(G3=$Z$1,0,1) -> 1 | H13: =IF(H3=$Z$1,0,1) -> 0 | I13: =IF(I3=$Z$1,0,1) -> 1 | J13: =IF(J3=$Z$1,0,1) -> 0 | ... R13: =IF(R3=$Z$1,0,1) -> 0 | T13: Piloto | U13: Piloto en servicio activo | V13: Both | W13: =IF(U13=$U$1,V13,"") | X13: =T13 -> Piloto
B14: Intimidación | C14: =IF(C4<=$A4,0,1) -> 0 | D14: =IF(D4<=$A4,0,1) -> 0 | E14: =IF(E4<=$A4,0,1) -> 0 | F14: =IF(F4<=$A4,0,1) -> 0 | G14: =IF(G4<=$A4,0,1) -> 0 | H14: =IF(H4<=$A4,0,1) -> 0 | I14: =IF(I4<=$A4,0,1) -> 0 | J14: =IF(J4<=$A4,0,1) -> 0 | ... R14: =IF(R4<=$A4,0,1) -> 0 | T14: Guardia costera | U14: Guardia costera | V14: No | W14: =IF(U14=$U$1,V14,"") | X14: =T14 -> Guardia costera
B15: Ciencia militar | C15: =IF(C5<=$A5,0,1) -> 0 | D15: =IF(D5<=$A5,0,1) -> 0 | E15: =IF(E5<=$A5,0,1) -> 0 | F15: =IF(F5<=$A5,0,1) -> 0 | G15: =IF(G5<=$A5,0,1) -> 1 | H15: =IF(H5<=$A5,0,1) -> 1 | I15: =IF(I5<=$A5,0,1) -> 0 | J15: =IF(J5<=$A5,0,1) -> 0 | ... R15: =IF(R5<=$A5,0,1) -> 1 | T15: Guardia costera | U15: Guardia costera en servicio activo | V15: Mar | W15: =IF(U15=$U$1,V15,"") | X15: =T15 -> Guardia costera
B16: Inspiración | C16: =IF(C6<=$A6,0,1) -> 0 | D16: =IF(D6<=$A6,0,1) -> 0 | E16: =IF(E6<=$A6,0,1) -> 0 | F16: =IF(F6<=$A6,0,1) -> 0 | G16: =IF(G6<=$A6,0,1) -> 0 | H16: =IF(H6<=$A6,0,1) -> 0 | I16: =IF(I6<=$A6,0,1) -> 0 | J16: =IF(J6<=$A6,0,1) -> 0 | ... R16: =IF(R6<=$A6,0,1) -> 0 | T16: Operador en USAFSS Big Eye | U16: Operador en USAFSS Big Eye | V16: Both | W16: =IF(U16=$U$1,V16,"") | X16: =T16 -> Operador en USAFSS Big Eye
B17: Agencia | C17: =IF(C7<=$A7,0,1) -> 0 | D17: =IF(D7<=$A7,0,1) -> 0 | E17: =IF(E7<=$A7,0,1) -> 0 | F17: =IF(F7<=$A7,0,1) -> 0 | G17: =IF(G7<=$A7,0,1) -> 0 | H17: =IF(H7<=$A7,0,1) -> 0 | I17: =IF(I7<=$A7,0,1) -> 0 | J17: =IF(J7<=$A7,0,1) -> 0 | ... R17: =IF(R7<=$A7,0,1) -> 0 | T17: Soldado | U17: Soldado | V17: No | W17: =IF(U17=$U$1,V17,"") | X17: =T17 -> Soldado
T18: Soldado | U18: Soldado en servicio activo | V18: Tierra | W18: =IF(U18=$U$1,V18,"") | X18: =T18 -> Soldado
B19: Estabilidad | C19: =IF(C9<=$A9,0,1) -> 0 | D19: =IF(D9<=$A9,0,1) -> 0 | E19: =IF(E9<=$A9,0,1) -> 0 | F19: =IF(F9<=$A9,0,1) -> 0 | G19: =IF(G9<=$A9,0,1) -> 0 | H19: =IF(H9<=$A9,0,1) -> 0 | I19: =IF(I9<=$A9,0,1) -> 0 | J19: =IF(J9<=$A9,0,1) -> 0 | ... R19: =IF(R9<=$A9,0,1) -> 0 | T19: Infante de marina | U19: Infante de marina | V19: No | W19: =IF(U19=$U$1,V19,"") | X19: =T19 -> Infante de marina
B20: Burocracia | C20: =IF(C10<=$A10,0,1) -> 0 | D20: =IF(D10<=$A10,0,1) -> 0 | E20: =IF(E10<=$A10,0,1) -> 0 | F20: =IF(F10<=$A10,0,1) -> 0 | G20: =IF(G10<=$A10,0,1) -> 0 | H20: =IF(H10<=$A10,0,1) -> 0 | I20: =IF(I10<=$A10,0,1) -> 0 | J20: =IF(J10<=$A10,0,1) -> 0 | ... R20: =IF(R10<=$A10,0,1) -> 0 | T20: Infante de marina | U20: Infante de marina en servicio activo | V20: Mar | W20: =IF(U20=$U$1,V20,"") | X20: =T20 -> Infante de marina
C21: =IF(SUM(C13:C20)=0,C2,"") | D21: =IF(SUM(D13:D20)=0,D2,"") -> Cabo | E21: =IF(SUM(E13:E20)=0,E2,"") | F21: =IF(SUM(F13:F20)=0,F2,"") -> Suboficial | G21: =IF(SUM(G13:G20)=0,G2,"") | H21: =IF(SUM(H13:H20)=0,H2,"") | I21: =IF(SUM(I13:I20)=0,I2,"") | J21: =IF(SUM(J13:J20)=0,J2,"") -> Alferez de fragata | ... R21: =IF(SUM(R13:R20)=0,R2,"") | T21: Grupo de Operaciones Psicológicas (Ejercito de los EEUU) | U21: Grupo de Operaciones Psicológicas (Ejercito de los EEUU) | V21: Tierra | W21: =IF(U21=$U$1,V21,"") | X21: =T21 -> Grupo de Operaciones Psicológicas (Ejercito de los EEUU)
B22: =RANDBETWEEN(1,MAX(C22:R22)) -> 2 | C22: =IF(C21<>"",1,"") | D22: =IF(D21="","",MAX($C$22:C22)+1) -> 1 | E22: =IF(E21="","",MAX($C$22:D22)+1) | F22: =IF(F21="","",MAX($C$22:E22)+1) -> 2 | G22: =IF(G21="","",MAX($C$22:F22)+1) | H22: =IF(H21="","",MAX($C$22:G22)+1) | I22: =IF(I21="","",MAX($C$22:H22)+1) | J22: =IF(J21="","",MAX($C$22:I22)+1) -> 3 | K22: =IF(K21="","",MAX($C$22:J22)+1) | ... R22: =IF(R21="","",MAX($C$22:Q22)+1) | T22: Grupo de Operaciones Psicológicas (Ejercito de los EEUU) | U22: Grupo de Operaciones Psicológicas en servicio activo (Ejercito de los EEUU) | V22: Tierra | W22: =IF(U22=$U$1,V22,"") | X22: =T22 -> Grupo de Operaciones Psicológicas (Ejercito de los EEUU)
B23: =IFERROR(HLOOKUP(B22,C22:R23,2,0),"") -> Psiquiatra (Suboficial) | C23: =$T$1&" ("&C21&")" -> Psiquiatra () | D23: =$T$1&" ("&D21&")" -> Psiquiatra (Cabo) | E23: =$T$1&" ("&E21&")" -> Psiquiatra () | F23: =$T$1&" ("&F21&")" -> Psiquiatra (Suboficial) | G23: =$T$1&" ("&G21&")" -> Psiquiatra () | H23: =$T$1&" ("&H21&")" -> Psiquiatra () | I23: =$T$1&" ("&I21&")" -> Psiquiatra () | J23: =$T$1&" ("&J21&")" -> Psiquiatra (Alferez de fragata) | ... R23: =$T$1&" ("&R21&")" -> Psiquiatra () | T23: Especialista en Inteligencia Urbana de USAIC | U23: Especialista en Inteligencia Urbana de USAIC | V23: Tierra | W23: =IF(U23=$U$1,V23,"") | X23: =T23 -> Especialista en Inteligencia Urbana de USAIC
T24: =IF(Z1="Mar","SEAL","Ranger") -> SEAL | U24: Fuerzas especiales | V24: Both | W24: =IF(U24=$U$1,V24,"") | X24: =T24 -> SEAL

Sheet Tabla de posibilidad Posicion
C1: EEUU | D1: EEUU | E1: EEUU | F1: EEUU | G1: EEUU | H1: MUNDO | I1: MUNDO | J1: EEUU | K1: MUNDO | L1: MUNDO | M1: MUNDO | N1: MUNDO | O1: MUNDO | P1: EEUU | Q1: EEUU | R1: MUNDO | S1: MUNDO | T1: MUNDO | U1: MUNDO | V1: MUNDO | W1: MUNDO | X1: MUNDO | Y1: MUNDO | Z1: EEUU | AA1: EEUU | AB1: EEUU | AC1: EEUU | AD1: EEUU | AE1: EEUU | AF1: MUNDO | AG1: EEUU | AH1: EEUU | AI1: EEUU | AJ1: EEUU | AK1: EEUU | AL1: EEUU | AM1: EEUU | AN1: EEUU | AO1: EEUU | AP1: EEUU | AQ1: MUNDO | AR1: EEUU | AS1: MUNDO | AT1: MUNDO | AU1: MUNDO | AV1: MUNDO | AW1: MUNDO | AX1: MUNDO | AY1: MUNDO | AZ1: MUNDO | BA1: MUNDO | BB1: MUNDO | BC1: MUNDO | BD1: MUNDO | BE1: MUNDO | BF1: MUNDO | BG1: MUNDO | BH1: MUNDO | BI1: MUNDO
C2: Agencia de proyectos de investigación avanzada (ARPA) | D2: Oficina de Investigaciones Especiales de la Fuerza Aérea (AFOSI) | E2: Oficina de Investigaciones Especiales de la Fuerza Aérea (AFOSI) | F2: Comisión dela Energía Atómica (AEC) | G2: Agencia Central de Inteligencia (CIA) | H2: Agencia Central de Inteligencia (CIA) | I2: Agencia Central de Inteligencia (CIA) | J2: Agencia Central de Inteligencia (CIA) | K2: Agencia Central de Inteligencia (CIA) | L2: Agencia Central de Inteligencia (CIA) | M2: Agencia Central de Inteligencia (CIA) | N2: Agencia Central de Inteligencia (CIA) | O2: Agencia Central de Inteligencia (CIA) | P2: Centro de Enfermedades Contagiosas (CDC) | Q2: Agenciade Inteligencia de Defensa (DIA) | R2: Agenciade Inteligencia de Defensa (DIA) | S2: Agenciade Inteligencia de Defensa (DIA) | T2: Agenciade Inteligencia de Defensa (DIA) | U2: Agenciade Inteligencia de Defensa (DIA) | V2: Agenciade Inteligencia de Defensa (DIA) | W2: Agenciade Inteligencia de Defensa (DIA) | X2: Agenciade Inteligencia de Defensa (DIA) | Y2: Agenciade Inteligencia de Defensa (DIA) | Z2: División de Investigación de Defensa (DRD), Biblioteca del Congreso (LoC) | AA2: Oficina Federal de Investigación (FBI) | AB2: Oficina Federal de Investigación (FBI) | AC2: Oficina Federal de Investigación (FBI) | AD2: Oficina Federal de Investigación (FBI) | AE2: Oficina Federal de Investigación (FBI) | AF2: Oficina Federal de Narcóticos (FBN) | AG2: Administración Nacional del Aire y del Espacio (NASA) | AH2: Oficina Nacional de Reconocimiento (NRO) | AI2: Agencia de Seguridad Nacional (NSA) | AJ2: Agencia de Seguridad Nacional (NSA) | AK2: Oficina de Inteligencia Naval (ONI) | AL2: Oficina de Inteligencia Naval (ONI) | AM2: Oficina de Inteligencia Naval (ONI) | AN2: Oficina de Inteligencia Naval (ONI) | AO2: Departamento de Estado | AP2: Departamento de Estado | AQ2: Departamento de Estado | AR2: Servicio de Marshals de los Estados Unidos | AS2: No Gubernamental | AT2: No Gubernamental | AU2: No Gubernamental | AV2: No Gubernamental | AW2: No Gubernamental | AX2: No Gubernamental | AY2: No Gubernamental | AZ2: No Gubernamental | BA2: No Gubernamental | BB2: No Gubernamental | BC2: No Gubernamental | BD2: No Gubernamental | BE2: No Gubernamental | BF2: No Gubernamental | BG2: No Gubernamental | BH2: No Gubernamental | BI2: No Gubernamental
C3: Investigador ARPA | D3: Investigador AFOSI | E3: Investigador AFOSI | F3: Investigador AEC | G3: Dirección de Inteligencia analítica (CIA) | H3: Supervisor de dirección de planes (CIA) | I3: Operativo de dirección de planes (CIA) | J3: Especialista en la oficina de investigación y desarrollo (ORD) (CIA) | K3: Oficial de la división de acción política (PAD) (CIA) | L3: Agente dela división de operaciones especiales (SOD) (CIA) | M3: Agente dela división de operaciones especiales (SOD) (CIA) | N3: Especialista en allanamiento clandestino (CIA) | O3: Diseñador de la división de Servicios Técnicos (TSD) (CIA) | P3: Investigador del CDC | Q3: Analista de la DIA | R3: Agregado militar (DIA) | S3: Agregado militar (DIA) | T3: Agregado militar (DIA) | U3: Agregado militar (DIA) | V3: Agregado militar (DIA) | W3: Agregado militar (DIA) | X3: Agregado militar (DIA) | Y3: Agregado militar (DIA) | Z3: Investigador del DRD en la LoC | AA3: Investigador de laboratorio del FBI | AB3: Agente especial del FBI | AC3: Agente encubierto del FBI | AD3: División de Inteligencia Nacional (operaciones encubiertas) (FBI) | AE3: División de Seguridad Nacional | AF3: Agente de la FBN | AG3: Ingeniero de la NASA | AH3: Ingeniero de sistemas NRO | AI3: Analista de la NSA | AJ3: Especialista de seguridad de la NSA | AK3: Analista de la ONI | AL3: Analista de la ONI | AM3: Supervisor del TF157 (ONI) | AN3: Supervisor del TF157 (ONI) | AO3: Funcionario del Ministerio de Exteriores (Departamento de Estado) | AP3: Analista del INR (Departamento de Estado) | AQ3: Agente especial de la SY (Departamento de Estado) | AR3: Marshal de los EEUU | AS3: Activista | AT3: Arqueólogo | AU3: Ingeniero | AV3: Técnico | AW3: Gánster | AX3: Médico | AY3: Psiquiatra | AZ3: Piloto | BA3: Académico Químico | BB3: Académico Biólogo | BC3: Académico Físico | BD3: Académico Arquitecto | BE3: Académico Historiador | BF3: Académico Arte | BG3: Académico Matemático | BH3: Académico Economista | BI3: Guerrero Tribal
D4: Piloto | E4: Piloto en servicio activo | L4: Soldado en servicio activo | M4: Fuerzas especiales | R4: Soldado | S4: Soldado en servicio activo | T4: Infante de marina | U4: Infante de marina en servicio activo | V4: Marinero | W4: Marinero en servicio activo | X4: Piloto | Y4: Piloto en servicio activo | AK4: Marinero | AL4: Marinero en servicio activo | AM4: Marinero | AN4: Marinero en servicio activo
C5: 1 | D5: 2 | E5: 3 | F5: 4 | G5: 5 | H5: 6 | I5: 7 | J5: 8 | K5: 9 | L5: 10 | M5: 11 | N5: 12 | O5: 13 | P5: 14 | Q5: 15 | R5: 16 | S5: 17 | T5: 18 | U5: 19 | V5: 20 | W5: 21 | X5: 22 | Y5: 23 | Z5: 24 | AA5: 25 | AB5: 26 | AC5: 27 | AD5: 28 | AE5: 29 | AF5: 30 | AG5: 31 | AH5: 32 | AI5: 33 | AJ5: 34 | AK5: 35 | AL5: 36 | AM5: 37 | AN5: 38 | AO5: 39 | AP5: 40 | AQ5: 41 | AR5: 42 | AS5: 43 | AT5: 44 | AU5: 45 | AV5: 46 | AW5: 47 | AX5: 48 | AY5: 49 | AZ5: 50 | BA5: 51 | BB5: 52 | BC5: 53 | BD5: 54 | BE5: 55 | BF5: 56 | BG5: 57 | BH5: 58 | BI5: 59
A6: Sin servicio | C6: =IF('Tabla de posibilidad'!C6=1,1,".") -> . | D6: =IF('Tabla de posibilidad'!D6=1,SUM('Tabla de posibilidad'!$C6:D6),".") -> . | E6: =IF('Tabla de posibilidad'!E6=1,SUM('Tabla de posibilidad'!$C6:E6),".") -> . | F6: =IF('Tabla de posibilidad'!F6=1,SUM('Tabla de posibilidad'!$C6:F6),".") -> . | G6: =IF('Tabla de posibilidad'!G6=1,SUM('Tabla de posibilidad'!$C6:G6),".") -> . | H6: =IF('Tabla de posibilidad'!H6=1,SUM('Tabla de posibilidad'!$C6:H6),".") -> . | I6: =IF('Tabla de posibilidad'!I6=1,SUM('Tabla de posibilidad'!$C6:I6),".") -> . | J6: =IF('Tabla de posibilidad'!J6=1,SUM('Tabla de posibilidad'!$C6:J6),".") -> . | K6: =IF('Tabla de posibilidad'!K6=1,SUM('Tabla de posibilidad'!$C6:K6),".") -> . | ... BI6: =IF('Tabla de posibilidad'!BI6=1,SUM('Tabla de posibilidad'!$C6:BI6),".") -> .
A7: Alistamiento en tiemposde paz | C7: =IF('Tabla de posibilidad'!C7=1,1,".") -> . | D7: =IF('Tabla de posibilidad'!D7=1,SUM('Tabla de posibilidad'!$C7:D7),".") -> . | E7: =IF('Tabla de posibilidad'!E7=1,SUM('Tabla de posibilidad'!$C7:E7),".") -> . | F7: =IF('Tabla de posibilidad'!F7=1,SUM('Tabla de posibilidad'!$C7:F7),".") -> . | G7: =IF('Tabla de posibilidad'!G7=1,SUM('Tabla de posibilidad'!$C7:G7),".") -> . | H7: =IF('Tabla de posibilidad'!H7=1,SUM('Tabla de posibilidad'!$C7:H7),".") -> . | I7: =IF('Tabla de posibilidad'!I7=1,SUM('Tabla de posibilidad'!$C7:I7),".") -> . | J7: =IF('Tabla de posibilidad'!J7=1,SUM('Tabla de posibilidad'!$C7:J7),".") -> . | K7: =IF('Tabla de posibilidad'!K7=1,SUM('Tabla de posibilidad'!$C7:K7),".") -> . | ... BI7: =IF('Tabla de posibilidad'!BI7=1,SUM('Tabla de posibilidad'!$C7:BI7),".") -> .
A8: Capellan | C8: =IF('Tabla de posibilidad'!C8=1,1,".") -> . | D8: =IF('Tabla de posibilidad'!D8=1,SUM('Tabla de posibilidad'!$C8:D8),".") -> . | E8: =IF('Tabla de posibilidad'!E8=1,SUM('Tabla de posibilidad'!$C8:E8),".") -> . | F8: =IF('Tabla de posibilidad'!F8=1,SUM('Tabla de posibilidad'!$C8:F8),".") -> . | G8: =IF('Tabla de posibilidad'!G8=1,SUM('Tabla de posibilidad'!$C8:G8),".") -> . | H8: =IF('Tabla de posibilidad'!H8=1,SUM('Tabla de posibilidad'!$C8:H8),".") -> . | I8: =IF('Tabla de posibilidad'!I8=1,SUM('Tabla de posibilidad'!$C8:I8),".") -> . | J8: =IF('Tabla de posibilidad'!J8=1,SUM('Tabla de posibilidad'!$C8:J8),".") -> . | K8: =IF('Tabla de posibilidad'!K8=1,SUM('Tabla de posibilidad'!$C8:K8),".") -> . | ... BI8: =IF('Tabla de posibilidad'!BI8=1,SUM('Tabla de posibilidad'!$C8:BI8),".") -> .
A9: Capellan en servicio activo | C9: =IF('Tabla de posibilidad'!C9=1,1,".") -> . | D9: =IF('Tabla de posibilidad'!D9=1,SUM('Tabla de posibilidad'!$C9:D9),".") -> . | E9: =IF('Tabla de posibilidad'!E9=1,SUM('Tabla de posibilidad'!$C9:E9),".") -> . | F9: =IF('Tabla de posibilidad'!F9=1,SUM('Tabla de posibilidad'!$C9:F9),".") -> . | G9: =IF('Tabla de posibilidad'!G9=1,SUM('Tabla de posibilidad'!$C9:G9),".") -> . | H9: =IF('Tabla de posibilidad'!H9=1,SUM('Tabla de posibilidad'!$C9:H9),".") -> . | I9: =IF('Tabla de posibilidad'!I9=1,SUM('Tabla de posibilidad'!$C9:I9),".") -> . | J9: =IF('Tabla de posibilidad'!J9=1,SUM('Tabla de posibilidad'!$C9:J9),".") -> . | K9: =IF('Tabla de posibilidad'!K9=1,SUM('Tabla de posibilidad'!$C9:K9),".") -> . | ... BI9: =IF('Tabla de posibilidad'!BI9=1,SUM('Tabla de posibilidad'!$C9:BI9),".") -> .
A10: Médico | C10: =IF('Tabla de posibilidad'!C10=1,1,".") -> . | D10: =IF('Tabla de posibilidad'!D10=1,SUM('Tabla de posibilidad'!$C10:D10),".") -> . | E10: =IF('Tabla de posibilidad'!E10=1,SUM('Tabla de posibilidad'!$C10:E10),".") -> . | F10: =IF('Tabla de posibilidad'!F10=1,SUM('Tabla de posibilidad'!$C10:F10),".") -> . | G10: =IF('Tabla de posibilidad'!G10=1,SUM('Tabla de posibilidad'!$C10:G10),".") -> . | H10: =IF('Tabla de posibilidad'!H10=1,SUM('Tabla de posibilidad'!$C10:H10),".") -> . | I10: =IF('Tabla de posibilidad'!I10=1,SUM('Tabla de posibilidad'!$C10:I10),".") -> . | J10: =IF('Tabla de posibilidad'!J10=1,SUM('Tabla de posibilidad'!$C10:J10),".") -> . | K10: =IF('Tabla de posibilidad'!K10=1,SUM('Tabla de posibilidad'!$C10:K10),".") -> . | ... BI10: =IF('Tabla de posibilidad'!BI10=1,SUM('Tabla de posibilidad'!$C10:BI10),".") -> .
A11: Médico en servicio activo | C11: =IF('Tabla de posibilidad'!C11=1,1,".") -> . | D11: =IF('Tabla de posibilidad'!D11=1,SUM('Tabla de posibilidad'!$C11:D11),".") -> . | E11: =IF('Tabla de posibilidad'!E11=1,SUM('Tabla de posibilidad'!$C11:E11),".") -> . | F11: =IF('Tabla de posibilidad'!F11=1,SUM('Tabla de posibilidad'!$C11:F11),".") -> . | G11: =IF('Tabla de posibilidad'!G11=1,SUM('Tabla de posibilidad'!$C11:G11),".") -> . | H11: =IF('Tabla de posibilidad'!H11=1,SUM('Tabla de posibilidad'!$C11:H11),".") -> . | I11: =IF('Tabla de posibilidad'!I11=1,SUM('Tabla de posibilidad'!$C11:I11),".") -> . | J11: =IF('Tabla de posibilidad'!J11=1,SUM('Tabla de posibilidad'!$C11:J11),".") -> . | K11: =IF('Tabla de posibilidad'!K11=1,SUM('Tabla de posibilidad'!$C11:K11),".") -> . | ... BI11: =IF('Tabla de posibilidad'!BI11=1,SUM('Tabla de posibilidad'!$C11:BI11),".") -> .
A12: Cuerpo médico del ejército | C12: =IF('Tabla de posibilidad'!C12=1,1,".") -> . | D12: =IF('Tabla de posibilidad'!D12=1,SUM('Tabla de posibilidad'!$C12:D12),".") -> . | E12: =IF('Tabla de posibilidad'!E12=1,SUM('Tabla de posibilidad'!$C12:E12),".") -> . | F12: =IF('Tabla de posibilidad'!F12=1,SUM('Tabla de posibilidad'!$C12:F12),".") -> . | G12: =IF('Tabla de posibilidad'!G12=1,SUM('Tabla de posibilidad'!$C12:G12),".") -> . | H12: =IF('Tabla de posibilidad'!H12=1,SUM('Tabla de posibilidad'!$C12:H12),".") -> . | I12: =IF('Tabla de posibilidad'!I12=1,SUM('Tabla de posibilidad'!$C12:I12),".") -> . | J12: =IF('Tabla de posibilidad'!J12=1,SUM('Tabla de posibilidad'!$C12:J12),".") -> . | K12: =IF('Tabla de posibilidad'!K12=1,SUM('Tabla de posibilidad'!$C12:K12),".") -> . | ... BI12: =IF('Tabla de posibilidad'!BI12=1,SUM('Tabla de posibilidad'!$C12:BI12),".") -> .
A13: Psiquiatra | C13: =IF('Tabla de posibilidad'!C13=1,1,".") -> . | D13: =IF('Tabla de posibilidad'!D13=1,SUM('Tabla de posibilidad'!$C13:D13),".") -> . | E13: =IF('Tabla de posibilidad'!E13=1,SUM('Tabla de posibilidad'!$C13:E13),".") -> . | F13: =IF('Tabla de posibilidad'!F13=1,SUM('Tabla de posibilidad'!$C13:F13),".") -> . | G13: =IF('Tabla de posibilidad'!G13=1,SUM('Tabla de posibilidad'!$C13:G13),".") -> . | H13: =IF('Tabla de posibilidad'!H13=1,SUM('Tabla de posibilidad'!$C13:H13),".") -> . | I13: =IF('Tabla de posibilidad'!I13=1,SUM('Tabla de posibilidad'!$C13:I13),".") -> . | J13: =IF('Tabla de posibilidad'!J13=1,SUM('Tabla de posibilidad'!$C13:J13),".") -> . | K13: =IF('Tabla de posibilidad'!K13=1,SUM('Tabla de posibilidad'!$C13:K13),".") -> . | ... BI13: =IF('Tabla de posibilidad'!BI13=1,SUM('Tabla de posibilidad'!$C13:BI13),".") -> .
A14: Marinero | C14: =IF('Tabla de posibilidad'!C14=1,1,".") -> . | D14: =IF('Tabla de posibilidad'!D14=1,SUM('Tabla de posibilidad'!$C14:D14),".") -> . | E14: =IF('Tabla de posibilidad'!E14=1,SUM('Tabla de posibilidad'!$C14:E14),".") -> . | F14: =IF('Tabla de posibilidad'!F14=1,SUM('Tabla de posibilidad'!$C14:F14),".") -> . | G14: =IF('Tabla de posibilidad'!G14=1,SUM('Tabla de posibilidad'!$C14:G14),".") -> . | H14: =IF('Tabla de posibilidad'!H14=1,SUM('Tabla de posibilidad'!$C14:H14),".") -> . | I14: =IF('Tabla de posibilidad'!I14=1,SUM('Tabla de posibilidad'!$C14:I14),".") -> . | J14: =IF('Tabla de posibilidad'!J14=1,SUM('Tabla de posibilidad'!$C14:J14),".") -> . | K14: =IF('Tabla de posibilidad'!K14=1,SUM('Tabla de posibilidad'!$C14:K14),".") -> . | ... BI14: =IF('Tabla de posibilidad'!BI14=1,SUM('Tabla de posibilidad'!$C14:BI14),".") -> .
A15: Marinero en servicio activo | C15: =IF('Tabla de posibilidad'!C15=1,1,".") -> . | D15: =IF('Tabla de posibilidad'!D15=1,SUM('Tabla de posibilidad'!$C15:D15),".") -> . | E15: =IF('Tabla de posibilidad'!E15=1,SUM('Tabla de posibilidad'!$C15:E15),".") -> . | F15: =IF('Tabla de posibilidad'!F15=1,SUM('Tabla de posibilidad'!$C15:F15),".") -> . | G15: =IF('Tabla de posibilidad'!G15=1,SUM('Tabla de posibilidad'!$C15:G15),".") -> . | H15: =IF('Tabla de posibilidad'!H15=1,SUM('Tabla de posibilidad'!$C15:H15),".") -> . | I15: =IF('Tabla de posibilidad'!I15=1,SUM('Tabla de posibilidad'!$C15:I15),".") -> . | J15: =IF('Tabla de posibilidad'!J15=1,SUM('Tabla de posibilidad'!$C15:J15),".") -> . | K15: =IF('Tabla de posibilidad'!K15=1,SUM('Tabla de posibilidad'!$C15:K15),".") -> . | ... BI15: =IF('Tabla de posibilidad'!BI15=1,SUM('Tabla de posibilidad'!$C15:BI15),".") -> .
A16: Piloto | C16: =IF('Tabla de posibilidad'!C16=1,1,".") -> . | D16: =IF('Tabla de posibilidad'!D16=1,SUM('Tabla de posibilidad'!$C16:D16),".") -> . | E16: =IF('Tabla de posibilidad'!E16=1,SUM('Tabla de posibilidad'!$C16:E16),".") -> . | F16: =IF('Tabla de posibilidad'!F16=1,SUM('Tabla de posibilidad'!$C16:F16),".") -> . | G16: =IF('Tabla de posibilidad'!G16=1,SUM('Tabla de posibilidad'!$C16:G16),".") -> . | H16: =IF('Tabla de posibilidad'!H16=1,SUM('Tabla de posibilidad'!$C16:H16),".") -> . | I16: =IF('Tabla de posibilidad'!I16=1,SUM('Tabla de posibilidad'!$C16:I16),".") -> . | J16: =IF('Tabla de posibilidad'!J16=1,SUM('Tabla de posibilidad'!$C16:J16),".") -> . | K16: =IF('Tabla de posibilidad'!K16=1,SUM('Tabla de posibilidad'!$C16:K16),".") -> . | ... BI16: =IF('Tabla de posibilidad'!BI16=1,SUM('Tabla de posibilidad'!$C16:BI16),".") -> .
A17: Piloto en servicio activo | C17: =IF('Tabla de posibilidad'!C17=1,1,".") -> . | D17: =IF('Tabla de posibilidad'!D17=1,SUM('Tabla de posibilidad'!$C17:D17),".") -> . | E17: =IF('Tabla de posibilidad'!E17=1,SUM('Tabla de posibilidad'!$C17:E17),".") -> . | F17: =IF('Tabla de posibilidad'!F17=1,SUM('Tabla de posibilidad'!$C17:F17),".") -> . | G17: =IF('Tabla de posibilidad'!G17=1,SUM('Tabla de posibilidad'!$C17:G17),".") -> . | H17: =IF('Tabla de posibilidad'!H17=1,SUM('Tabla de posibilidad'!$C17:H17),".") -> . | I17: =IF('Tabla de posibilidad'!I17=1,SUM('Tabla de posibilidad'!$C17:I17),".") -> . | J17: =IF('Tabla de posibilidad'!J17=1,SUM('Tabla de posibilidad'!$C17:J17),".") -> . | K17: =IF('Tabla de posibilidad'!K17=1,SUM('Tabla de posibilidad'!$C17:K17),".") -> . | ... BI17: =IF('Tabla de posibilidad'!BI17=1,SUM('Tabla de posibilidad'!$C17:BI17),".") -> .
... A28: Fuerzas especiales | C28: =IF('Tabla de posibilidad'!C28=1,1,".") -> . | D28: =IF('Tabla de posibilidad'!D28=1,SUM('Tabla de posibilidad'!$C28:D28),".") -> . | E28: =IF('Tabla de posibilidad'!E28=1,SUM('Tabla de posibilidad'!$C28:E28),".") -> . | F28: =IF('Tabla de posibilidad'!F28=1,SUM('Tabla de posibilidad'!$C28:F28),".") -> . | G28: =IF('Tabla de posibilidad'!G28=1,SUM('Tabla de posibilidad'!$C28:G28),".") -> . | H28: =IF('Tabla de posibilidad'!H28=1,SUM('Tabla de posibilidad'!$C28:H28),".") -> . | I28: =IF('Tabla de posibilidad'!I28=1,SUM('Tabla de posibilidad'!$C28:I28),".") -> . | J28: =IF('Tabla de posibilidad'!J28=1,SUM('Tabla de posibilidad'!$C28:J28),".") -> . | K28: =IF('Tabla de posibilidad'!K28=1,SUM('Tabla de posibilidad'!$C28:K28),".") -> . | ... BI28: =IF('Tabla de posibilidad'!BI28=1,SUM('Tabla de posibilidad'!$C28:BI28),".") -> .
A31: =Hoja1!D2 -> Infante de marina | B31: =IFERROR(SUM(C31:BI31)/SUM(C31:BI31),0) -> 1 | C31: =VLOOKUP($A$31,$A$6:$BI$28,C5+2,0) -> . | D31: =VLOOKUP($A$31,$A$6:$BI$28,D5+2,0) -> . | E31: =VLOOKUP($A$31,$A$6:$BI$28,E5+2,0) -> . | F31: =VLOOKUP($A$31,$A$6:$BI$28,F5+2,0) -> . | G31: =VLOOKUP($A$31,$A$6:$BI$28,G5+2,0) -> . | H31: =VLOOKUP($A$31,$A$6:$BI$28,H5+2,0) -> . | I31: =VLOOKUP($A$31,$A$6:$BI$28,I5+2,0) -> . | J31: =VLOOKUP($A$31,$A$6:$BI$28,J5+2,0) -> . | ... BI31: =VLOOKUP($A$31,$A$6:$BI$28,BI5+2,0) -> .
C33: =IF(C31<>".",C3,".") -> . | D33: =IF(D31<>".",D3,".") -> . | E33: =IF(E31<>".",E3,".") -> . | F33: =IF(F31<>".",F3,".") -> . | G33: =IF(G31<>".",G3,".") -> . | H33: =IF(H31<>".",H3,".") -> . | I33: =IF(I31<>".",I3,".") -> . | J33: =IF(J31<>".",J3,".") -> . | ... BI33: =IF(BI31<>".",BI3,".") -> .
C35: =IFERROR(HLOOKUP(C5,$C$31:$BI$33,3,0),"") -> Investigador de laboratorio del FBI | D35: =IFERROR(HLOOKUP(D5,$C$31:$BI$33,3,0),"") -> Agente especial del FBI | E35: =IFERROR(HLOOKUP(E5,$C$31:$BI$33,3,0),"") -> Agente encubierto del FBI | F35: =IFERROR(HLOOKUP(F5,$C$31:$BI$33,3,0),"") -> División de Inteligencia Nacional (operaciones encubiertas) (FBI) | G35: =IFERROR(HLOOKUP(G5,$C$31:$BI$33,3,0),"") -> División de Seguridad Nacional | H35: =IFERROR(HLOOKUP(H5,$C$31:$BI$33,3,0),"") | I35: =IFERROR(HLOOKUP(I5,$C$31:$BI$33,3,0),"") | J35: =IFERROR(HLOOKUP(J5,$C$31:$BI$33,3,0),"") | ... BI35: =IFERROR(HLOOKUP(BI5,$C$31:$BI$33,3,0),"")

Sheet Tabla de posibilidad Pos Ag
C1: EEUU | D1: EEUU | E1: EEUU | F1: EEUU | G1: EEUU | H1: MUNDO | I1: MUNDO | J1: EEUU | K1: MUNDO | L1: MUNDO | M1: MUNDO | N1: MUNDO | O1: MUNDO | P1: EEUU | Q1: EEUU | R1: MUNDO | S1: MUNDO | T1: MUNDO | U1: MUNDO | V1: MUNDO | W1: MUNDO | X1: MUNDO | Y1: MUNDO | Z1: EEUU | AA1: EEUU | AB1: EEUU | AC1: EEUU | AD1: EEUU | AE1: EEUU | AF1: MUNDO | AG1: EEUU | AH1: EEUU | AI1: EEUU | AJ1: EEUU | AK1: EEUU | AL1: EEUU | AM1: EEUU | AN1: EEUU | AO1: EEUU | AP1: EEUU | AQ1: MUNDO | AR1: EEUU | AS1: MUNDO | AT1: MUNDO | AU1: MUNDO | AV1: MUNDO | AW1: MUNDO | AX1: MUNDO | AY1: MUNDO | AZ1: MUNDO | BA1: MUNDO | BB1: MUNDO | BC1: MUNDO | BD1: MUNDO | BE1: MUNDO | BF1: MUNDO | BG1: MUNDO | BH1: MUNDO | BI1: MUNDO
C2: Agencia de proyectos de investigación avanzada (ARPA) | D2: Oficina de Investigaciones Especiales de la Fuerza Aérea (AFOSI) | E2: Oficina de Investigaciones Especiales de la Fuerza Aérea (AFOSI) | F2: Comisión dela Energía Atómica (AEC) | G2: Agencia Central de Inteligencia (CIA) | H2: Agencia Central de Inteligencia (CIA) | I2: Agencia Central de Inteligencia (CIA) | J2: Agencia Central de Inteligencia (CIA) | K2: Agencia Central de Inteligencia (CIA) | L2: Agencia Central de Inteligencia (CIA) | M2: Agencia Central de Inteligencia (CIA) | N2: Agencia Central de Inteligencia (CIA) | O2: Agencia Central de Inteligencia (CIA) | P2: Centro de Enfermedades Contagiosas (CDC) | Q2: Agenciade Inteligencia de Defensa (DIA) | R2: Agenciade Inteligencia de Defensa (DIA) | S2: Agenciade Inteligencia de Defensa (DIA) | T2: Agenciade Inteligencia de Defensa (DIA) | U2: Agenciade Inteligencia de Defensa (DIA) | V2: Agenciade Inteligencia de Defensa (DIA) | W2: Agenciade Inteligencia de Defensa (DIA) | X2: Agenciade Inteligencia de Defensa (DIA) | Y2: Agenciade Inteligencia de Defensa (DIA) | Z2: División de Investigación de Defensa (DRD), Biblioteca del Congreso (LoC) | AA2: Oficina Federal de Investigación (FBI) | AB2: Oficina Federal de Investigación (FBI) | AC2: Oficina Federal de Investigación (FBI) | AD2: Oficina Federal de Investigación (FBI) | AE2: Oficina Federal de Investigación (FBI) | AF2: Oficina Federal de Narcóticos (FBN) | AG2: Administración Nacional del Aire y del Espacio (NASA) | AH2: Oficina Nacional de Reconocimiento (NRO) | AI2: Agencia de Seguridad Nacional (NSA) | AJ2: Agencia de Seguridad Nacional (NSA) | AK2: Oficina de Inteligencia Naval (ONI) | AL2: Oficina de Inteligencia Naval (ONI) | AM2: Oficina de Inteligencia Naval (ONI) | AN2: Oficina de Inteligencia Naval (ONI) | AO2: Departamento de Estado | AP2: Departamento de Estado | AQ2: Departamento de Estado | AR2: Servicio de Marshals de los Estados Unidos | AS2: No Gubernamental | AT2: No Gubernamental | AU2: No Gubernamental | AV2: No Gubernamental | AW2: No Gubernamental | AX2: No Gubernamental | AY2: No Gubernamental | AZ2: No Gubernamental | BA2: No Gubernamental | BB2: No Gubernamental | BC2: No Gubernamental | BD2: No Gubernamental | BE2: No Gubernamental | BF2: No Gubernamental | BG2: No Gubernamental | BH2: No Gubernamental | BI2: No Gubernamental
C3: Investigador ARPA | D3: Investigador AFOSI | E3: Investigador AFOSI | F3: Investigador AEC | G3: Dirección de Inteligencia analítica (CIA) | H3: Supervisor de dirección de planes (CIA) | I3: Operativo de dirección de planes (CIA) | J3: Especialista en la oficina de investigación y desarrollo (ORD) (CIA) | K3: Oficial de la división de acción política (PAD) (CIA) | L3: Agente dela división de operaciones especiales (SOD) (CIA) | M3: Agente dela división de operaciones especiales (SOD) (CIA) | N3: Especialista en allanamiento clandestino (CIA) | O3: Diseñador de la división de Servicios Técnicos (TSD) (CIA) | P3: Investigador del CDC | Q3: Analista de la DIA | R3: Agregado militar (DIA) | S3: Agregado militar (DIA) | T3: Agregado militar (DIA) | U3: Agregado militar (DIA) | V3: Agregado militar (DIA) | W3: Agregado militar (DIA) | X3: Agregado militar (DIA) | Y3: Agregado militar (DIA) | Z3: Investigador del DRD en la LoC | AA3: Investigador de laboratorio del FBI | AB3: Agente especial del FBI | AC3: Agente encubierto del FBI | AD3: División de Inteligencia Nacional (operaciones encubiertas) (FBI) | AE3: División de Seguridad Nacional | AF3: Agente de la FBN | AG3: Ingeniero de la NASA | AH3: Ingeniero de sistemas NRO | AI3: Analista de la NSA | AJ3: Especialista de seguridad de la NSA | AK3: Analista de la ONI | AL3: Analista de la ONI | AM3: Supervisor del TF157 (ONI) | AN3: Supervisor del TF157 (ONI) | AO3: Funcionario del Ministerio de Exteriores (Departamento de Estado) | AP3: Analista del INR (Departamento de Estado) | AQ3: Agente especial de la SY (Departamento de Estado) | AR3: Marshal de los EEUU | AS3: Activista | AT3: Arqueólogo | AU3: Ingeniero | AV3: Técnico | AW3: Gánster | AX3: Médico | AY3: Psiquiatra | AZ3: Piloto | BA3: Académico Químico | BB3: Académico Biólogo | BC3: Académico Físico | BD3: Académico Arquitecto | BE3: Académico Historiador | BF3: Académico Arte | BG3: Académico Matemático | BH3: Académico Economista | BI3: Guerrero Tribal
D4: Piloto | E4: Piloto en servicio activo | L4: Soldado en servicio activo | M4: Fuerzas especiales | R4: Soldado | S4: Soldado en servicio activo | T4: Infante de marina | U4: Infante de marina en servicio activo | V4: Marinero | W4: Marinero en servicio activo | X4: Piloto | Y4: Piloto en servicio activo | AK4: Marinero | AL4: Marinero en servicio activo | AM4: Marinero | AN4: Marinero en servicio activo
C5: 1 | D5: 2 | E5: 3 | F5: 4 | G5: 5 | H5: 6 | I5: 7 | J5: 8 | K5: 9 | L5: 10 | M5: 11 | N5: 12 | O5: 13 | P5: 14 | Q5: 15 | R5: 16 | S5: 17 | T5: 18 | U5: 19 | V5: 20 | W5: 21 | X5: 22 | Y5: 23 | Z5: 24 | AA5: 25 | AB5: 26 | AC5: 27 | AD5: 28 | AE5: 29 | AF5: 30 | AG5: 31 | AH5: 32 | AI5: 33 | AJ5: 34 | AK5: 35 | AL5: 36 | AM5: 37 | AN5: 38 | AO5: 39 | AP5: 40 | AQ5: 41 | AR5: 42 | AS5: 43 | AT5: 44 | AU5: 45 | AV5: 46 | AW5: 47 | AX5: 48 | AY5: 49 | AZ5: 50 | BA5: 51 | BB5: 52 | BC5: 53 | BD5: 54 | BE5: 55 | BF5: 56 | BG5: 57 | BH5: 58 | BI5: 59
A6: Sin servicio | C6: =IF('Tabla de posibilidad HG'!C6<=Hoja1!$D$8,IF('Tabla de posibilidad HI'!C6<=Hoja1!$D$7,IF('Tabla de posibilidad Requisitos'!C6=1,IF('Tabla de posibilidad Localizaci'!C6=1,1,"."),"."),"."),".") -> 1 | D6: =IF('Tabla de posibilidad HG'!D6<=Hoja1!$D$8,IF('Tabla de posibilidad HI'!D6<=Hoja1!$D$7,IF('Tabla de posibilidad Requisitos'!D6=1,IF('Tabla de posibilidad Localizaci'!D6=1,1+$C6,"."),"."),"."),".") -> . | E6: =IF('Tabla de posibilidad HG'!E6<=Hoja1!$D$8,IF('Tabla de posibilidad HI'!E6<=Hoja1!$D$7,IF('Tabla de posibilidad Requisitos'!E6=1,IF('Tabla de posibilidad Localizaci'!E6=1,1+MAX($C6:D6),"."),"."),"."),".") -> . | F6: =IF('Tabla de posibilidad HG'!F6<=Hoja1!$D$8,IF('Tabla de posibilidad HI'!F6<=Hoja1!$D$7,IF('Tabla de posibilidad Requisitos'!F6=1,IF('Tabla de posibilidad Localizaci'!F6=1,1+MAX($C6:E6),"."),"."),"."),".") -> 2 | G6: =IF('Tabla de posibilidad HG'!G6<=Hoja1!$D$8,IF('Tabla de posibilidad HI'!G6<=Hoja1!$D$7,IF('Tabla de posibilidad Requisitos'!G6=1,IF('Tabla de posibilidad Localizaci'!G6=1,1+MAX($C6:F6),"."),"."),"."),".") -> 3 | H6: =IF('Tabla de posibilidad HG'!H6<=Hoja1!$D$8,IF('Tabla de posibilidad HI'!H6<=Hoja1!$D$7,IF('Tabla de posibilidad Requisitos'!H6=1,IF('Tabla de posibilidad Localizaci'!H6=1,1+MAX($C6:G6),"."),"."),"."),".") -> 4 | I6: =IF('Tabla de posibilidad HG'!I6<=Hoja1!$D$8,IF('Tabla de posibilidad HI'!I6<=Hoja1!$D$7,IF('Tabla de posibilidad Requisitos'!I6=1,IF('Tabla de posibilidad Localizaci'!I6=1,1+MAX($C6:H6),"."),"."),"."),".") -> 5 | J6: =IF('Tabla de posibilidad HG'!J6<=Hoja1!$D$8,IF('Tabla de posibilidad HI'!J6<=Hoja1!$D$7,IF('Tabla de posibilidad Requisitos'!J6=1,IF('Tabla de posibilidad Localizaci'!J6=1,1+MAX($C6:I6),"."),"."),"."),".") -> 6 | K6: =IF('Tabla de posibilidad HG'!K6<=Hoja1!$D$8,IF('Tabla de posibilidad HI'!K6<=Hoja1!$D$7,IF('Tabla de posibilidad Requisitos'!K6=1,IF('Tabla de posibilidad Localizaci'!K6=1,1+MAX($C6:J6),"."),"."),"."),".") -> 7 | L6: =IF('Tabla de posibilidad HG'!L6<=Hoja1!$D$8,IF('Tabla de posibilidad HI'!L6<=Hoja1!$D$7,IF('Tabla de posibilidad Requisitos'!L6=1,IF('Tabla de posibilidad Localizaci'!L6=1,1+MAX($C6:K6),"."),"."),"."),".") -> . | ... BI6: =IF('Tabla de posibilidad HG'!BI6<=Hoja1!$D$8,IF('Tabla de posibilidad HI'!BI6<=Hoja1!$D$7,IF('Tabla de posibilidad Requisitos'!BI6=1,IF('Tabla de posibilidad Localizaci'!BI6=1,1+MAX($C6:BH6),"."),"."),"."),".") -> 43
A7: Alistamiento en tiemposde paz | C7: =IF('Tabla de posibilidad HG'!C7<=Hoja1!$D$8,IF('Tabla de posibilidad HI'!C7<=Hoja1!$D$7,IF('Tabla de posibilidad Requisitos'!C7=1,IF('Tabla de posibilidad Localizaci'!C7=1,1,"."),"."),"."),".") -> 1 | D7: =IF('Tabla de posibilidad HG'!D7<=Hoja1!$D$8,IF('Tabla de posibilidad HI'!D7<=Hoja1!$D$7,IF('Tabla de posibilidad Requisitos'!D7=1,IF('Tabla de posibilidad Localizaci'!D7=1,1+$C7,"."),"."),"."),".") -> . | E7: =IF('Tabla de posibilidad HG'!E7<=Hoja1!$D$8,IF('Tabla de posibilidad HI'!E7<=Hoja1!$D$7,IF('Tabla de posibilidad Requisitos'!E7=1,IF('Tabla de posibilidad Localizaci'!E7=1,1+MAX($C7:D7),"."),"."),"."),".") -> . | F7: =IF('Tabla de posibilidad HG'!F7<=Hoja1!$D$8,IF('Tabla de posibilidad HI'!F7<=Hoja1!$D$7,IF('Tabla de posibilidad Requisitos'!F7=1,IF('Tabla de posibilidad Localizaci'!F7=1,1+MAX($C7:E7),"."),"."),"."),".") -> 2 | G7: =IF('Tabla de posibilidad HG'!G7<=Hoja1!$D$8,IF('Tabla de posibilidad HI'!G7<=Hoja1!$D$7,IF('Tabla de posibilidad Requisitos'!G7=1,IF('Tabla de posibilidad Localizaci'!G7=1,1+MAX($C7:F7),"."),"."),"."),".") -> 3 | H7: =IF('Tabla de posibilidad HG'!H7<=Hoja1!$D$8,IF('Tabla de posibilidad HI'!H7<=Hoja1!$D$7,IF('Tabla de posibilidad Requisitos'!H7=1,IF('Tabla de posibilidad Localizaci'!H7=1,1+MAX($C7:G7),"."),"."),"."),".") -> 4 | I7: =IF('Tabla de posibilidad HG'!I7<=Hoja1!$D$8,IF('Tabla de posibilidad HI'!I7<=Hoja1!$D$7,IF('Tabla de posibilidad Requisitos'!I7=1,IF('Tabla de posibilidad Localizaci'!I7=1,1+MAX($C7:H7),"."),"."),"."),".") -> 5 | J7: =IF('Tabla de posibilidad HG'!J7<=Hoja1!$D$8,IF('Tabla de posibilidad HI'!J7<=Hoja1!$D$7,IF('Tabla de posibilidad Requisitos'!J7=1,IF('Tabla de posibilidad Localizaci'!J7=1,1+MAX($C7:I7),"."),"."),"."),".") -> 6 | K7: =IF('Tabla de posibilidad HG'!K7<=Hoja1!$D$8,IF('Tabla de posibilidad HI'!K7<=Hoja1!$D$7,IF('Tabla de posibilidad Requisitos'!K7=1,IF('Tabla de posibilidad Localizaci'!K7=1,1+MAX($C7:J7),"."),"."),"."),".") -> 7 | L7: =IF('Tabla de posibilidad HG'!L7<=Hoja1!$D$8,IF('Tabla de posibilidad HI'!L7<=Hoja1!$D$7,IF('Tabla de posibilidad Requisitos'!L7=1,IF('Tabla de posibilidad Localizaci'!L7=1,1+MAX($C7:K7),"."),"."),"."),".") -> . | ... BI7: =IF('Tabla de posibilidad HG'!BI7<=Hoja1!$D$8,IF('Tabla de posibilidad HI'!BI7<=Hoja1!$D$7,IF('Tabla de posibilidad Requisitos'!BI7=1,IF('Tabla de posibilidad Localizaci'!BI7=1,1+MAX($C7:BH7),"."),"."),"."),".") -> 43
A8: Capellan | C8: =IF('Tabla de posibilidad HG'!C8<=Hoja1!$D$8,IF('Tabla de posibilidad HI'!C8<=Hoja1!$D$7,IF('Tabla de posibilidad Requisitos'!C8=1,IF('Tabla de posibilidad Localizaci'!C8=1,1,"."),"."),"."),".") -> 1 | D8: =IF('Tabla de posibilidad HG'!D8<=Hoja1!$D$8,IF('Tabla de posibilidad HI'!D8<=Hoja1!$D$7,IF('Tabla de posibilidad Requisitos'!D8=1,IF('Tabla de posibilidad Localizaci'!D8=1,1+$C8,"."),"."),"."),".") -> . | E8: =IF('Tabla de posibilidad HG'!E8<=Hoja1!$D$8,IF('Tabla de posibilidad HI'!E8<=Hoja1!$D$7,IF('Tabla de posibilidad Requisitos'!E8=1,IF('Tabla de posibilidad Localizaci'!E8=1,1+MAX($C8:D8),"."),"."),"."),".") -> . | F8: =IF('Tabla de posibilidad HG'!F8<=Hoja1!$D$8,IF('Tabla de posibilidad HI'!F8<=Hoja1!$D$7,IF('Tabla de posibilidad Requisitos'!F8=1,IF('Tabla de posibilidad Localizaci'!F8=1,1+MAX($C8:E8),"."),"."),"."),".") -> 2 | G8: =IF('Tabla de posibilidad HG'!G8<=Hoja1!$D$8,IF('Tabla de posibilidad HI'!G8<=Hoja1!$D$7,IF('Tabla de posibilidad Requisitos'!G8=1,IF('Tabla de posibilidad Localizaci'!G8=1,1+MAX($C8:F8),"."),"."),"."),".") -> 3 | H8: =IF('Tabla de posibilidad HG'!H8<=Hoja1!$D$8,IF('Tabla de posibilidad HI'!H8<=Hoja1!$D$7,IF('Tabla de posibilidad Requisitos'!H8=1,IF('Tabla de posibilidad Localizaci'!H8=1,1+MAX($C8:G8),"."),"."),"."),".") -> 4 | I8: =IF('Tabla de posibilidad HG'!I8<=Hoja1!$D$8,IF('Tabla de posibilidad HI'!I8<=Hoja1!$D$7,IF('Tabla de posibilidad Requisitos'!I8=1,IF('Tabla de posibilidad Localizaci'!I8=1,1+MAX($C8:H8),"."),"."),"."),".") -> 5 | J8: =IF('Tabla de posibilidad HG'!J8<=Hoja1!$D$8,IF('Tabla de posibilidad HI'!J8<=Hoja1!$D$7,IF('Tabla de posibilidad Requisitos'!J8=1,IF('Tabla de posibilidad Localizaci'!J8=1,1+MAX($C8:I8),"."),"."),"."),".") -> 6 | K8: =IF('Tabla de posibilidad HG'!K8<=Hoja1!$D$8,IF('Tabla de posibilidad HI'!K8<=Hoja1!$D$7,IF('Tabla de posibilidad Requisitos'!K8=1,IF('Tabla de posibilidad Localizaci'!K8=1,1+MAX($C8:J8),"."),"."),"."),".") -> 7 | L8: =IF('Tabla de posibilidad HG'!L8<=Hoja1!$D$8,IF('Tabla de posibilidad HI'!L8<=Hoja1!$D$7,IF('Tabla de posibilidad Requisitos'!L8=1,IF('Tabla de posibilidad Localizaci'!L8=1,1+MAX($C8:K8),"."),"."),"."),".") -> . | ... BI8: =IF('Tabla de posibilidad HG'!BI8<=Hoja1!$D$8,IF('Tabla de posibilidad HI'!BI8<=Hoja1!$D$7,IF('Tabla de posibilidad Requisitos'!BI8=1,IF('Tabla de posibilidad Localizaci'!BI8=1,1+MAX($C8:BH8),"."),"."),"."),".") -> 43
A9: Capellan en servicio activo | C9: =IF('Tabla de posibilidad HG'!C9<=Hoja1!$D$8,IF('Tabla de posibilidad HI'!C9<=Hoja1!$D$7,IF('Tabla de posibilidad Requisitos'!C9=1,IF('Tabla de posibilidad Localizaci'!C9=1,1,"."),"."),"."),".") -> . | D9: =IF('Tabla de posibilidad HG'!D9<=Hoja1!$D$8,IF('Tabla de posibilidad HI'!D9<=Hoja1!$D$7,IF('Tabla de posibilidad Requisitos'!D9=1,IF('Tabla de posibilidad Localizaci'!D9=1,1+$C9,"."),"."),"."),".") -> . | E9: =IF('Tabla de posibilidad HG'!E9<=Hoja1!$D$8,IF('Tabla de posibilidad HI'!E9<=Hoja1!$D$7,IF('Tabla de posibilidad Requisitos'!E9=1,IF('Tabla de posibilidad Localizaci'!E9=1,1+MAX($C9:D9),"."),"."),"."),".") -> . | F9: =IF('Tabla de posibilidad HG'!F9<=Hoja1!$D$8,IF('Tabla de posibilidad HI'!F9<=Hoja1!$D$7,IF('Tabla de posibilidad Requisitos'!F9=1,IF('Tabla de posibilidad Localizaci'!F9=1,1+MAX($C9:E9),"."),"."),"."),".") -> . | G9: =IF('Tabla de posibilidad HG'!G9<=Hoja1!$D$8,IF('Tabla de posibilidad HI'!G9<=Hoja1!$D$7,IF('Tabla de posibilidad Requisitos'!G9=1,IF('Tabla de posibilidad Localizaci'!G9=1,1+MAX($C9:F9),"."),"."),"."),".") -> . | H9: =IF('Tabla de posibilidad HG'!H9<=Hoja1!$D$8,IF('Tabla de posibilidad HI'!H9<=Hoja1!$D$7,IF('Tabla de posibilidad Requisitos'!H9=1,IF('Tabla de posibilidad Localizaci'!H9=1,1+MAX($C9:G9),"."),"."),"."),".") -> . | I9: =IF('Tabla de posibilidad HG'!I9<=Hoja1!$D$8,IF('Tabla de posibilidad HI'!I9<=Hoja1!$D$7,IF('Tabla de posibilidad Requisitos'!I9=1,IF('Tabla de posibilidad Localizaci'!I9=1,1+MAX($C9:H9),"."),"."),"."),".") -> . | J9: =IF('Tabla de posibilidad HG'!J9<=Hoja1!$D$8,IF('Tabla de posibilidad HI'!J9<=Hoja1!$D$7,IF('Tabla de posibilidad Requisitos'!J9=1,IF('Tabla de posibilidad Localizaci'!J9=1,1+MAX($C9:I9),"."),"."),"."),".") -> . | K9: =IF('Tabla de posibilidad HG'!K9<=Hoja1!$D$8,IF('Tabla de posibilidad HI'!K9<=Hoja1!$D$7,IF('Tabla de posibilidad Requisitos'!K9=1,IF('Tabla de posibilidad Localizaci'!K9=1,1+MAX($C9:J9),"."),"."),"."),".") -> . | L9: =IF('Tabla de posibilidad HG'!L9<=Hoja1!$D$8,IF('Tabla de posibilidad HI'!L9<=Hoja1!$D$7,IF('Tabla de posibilidad Requisitos'!L9=1,IF('Tabla de posibilidad Localizaci'!L9=1,1+MAX($C9:K9),"."),"."),"."),".") -> . | ... BI9: =IF('Tabla de posibilidad HG'!BI9<=Hoja1!$D$8,IF('Tabla de posibilidad HI'!BI9<=Hoja1!$D$7,IF('Tabla de posibilidad Requisitos'!BI9=1,IF('Tabla de posibilidad Localizaci'!BI9=1,1+MAX($C9:BH9),"."),"."),"."),".") -> .
A10: Médico | C10: =IF('Tabla de posibilidad HG'!C10<=Hoja1!$D$8,IF('Tabla de posibilidad HI'!C10<=Hoja1!$D$7,IF('Tabla de posibilidad Requisitos'!C10=1,IF('Tabla de posibilidad Localizaci'!C10=1,1,"."),"."),"."),".") -> 1 | D10: =IF('Tabla de posibilidad HG'!D10<=Hoja1!$D$8,IF('Tabla de posibilidad HI'!D10<=Hoja1!$D$7,IF('Tabla de posibilidad Requisitos'!D10=1,IF('Tabla de posibilidad Localizaci'!D10=1,1+$C10,"."),"."),"."),".") -> . | E10: =IF('Tabla de posibilidad HG'!E10<=Hoja1!$D$8,IF('Tabla de posibilidad HI'!E10<=Hoja1!$D$7,IF('Tabla de posibilidad Requisitos'!E10=1,IF('Tabla de posibilidad Localizaci'!E10=1,1+MAX($C10:D10),"."),"."),"."),".") -> . | F10: =IF('Tabla de posibilidad HG'!F10<=Hoja1!$D$8,IF('Tabla de posibilidad HI'!F10<=Hoja1!$D$7,IF('Tabla de posibilidad Requisitos'!F10=1,IF('Tabla de posibilidad Localizaci'!F10=1,1+MAX($C10:E10),"."),"."),"."),".") -> 2 | G10: =IF('Tabla de posibilidad HG'!G10<=Hoja1!$D$8,IF('Tabla de posibilidad HI'!G10<=Hoja1!$D$7,IF('Tabla de posibilidad Requisitos'!G10=1,IF('Tabla de posibilidad Localizaci'!G10=1,1+MAX($C10:F10),"."),"."),"."),".") -> 3 | H10: =IF('Tabla de posibilidad HG'!H10<=Hoja1!$D$8,IF('Tabla de posibilidad HI'!H10<=Hoja1!$D$7,IF('Tabla de posibilidad Requisitos'!H10=1,IF('Tabla de posibilidad Localizaci'!H10=1,1+MAX($C10:G10),"."),"."),"."),".") -> 4 | I10: =IF('Tabla de posibilidad HG'!I10<=Hoja1!$D$8,IF('Tabla de posibilidad HI'!I10<=Hoja1!$D$7,IF('Tabla de posibilidad Requisitos'!I10=1,IF('Tabla de posibilidad Localizaci'!I10=1,1+MAX($C10:H10),"."),"."),"."),".") -> 5 | J10: =IF('Tabla de posibilidad HG'!J10<=Hoja1!$D$8,IF('Tabla de posibilidad HI'!J10<=Hoja1!$D$7,IF('Tabla de posibilidad Requisitos'!J10=1,IF('Tabla de posibilidad Localizaci'!J10=1,1+MAX($C10:I10),"."),"."),"."),".") -> 6 | K10: =IF('Tabla de posibilidad HG'!K10<=Hoja1!$D$8,IF('Tabla de posibilidad HI'!K10<=Hoja1!$D$7,IF('Tabla de posibilidad Requisitos'!K10=1,IF('Tabla de posibilidad Localizaci'!K10=1,1+MAX($C10:J10),"."),"."),"."),".") -> 7 | L10: =IF('Tabla de posibilidad HG'!L10<=Hoja1!$D$8,IF('Tabla de posibilidad HI'!L10<=Hoja1!$D$7,IF('Tabla de posibilidad Requisitos'!L10=1,IF('Tabla de posibilidad Localizaci'!L10=1,1+MAX($C10:K10),"."),"."),"."),".") -> . | ... BI10: =IF('Tabla de posibilidad HG'!BI10<=Hoja1!$D$8,IF('Tabla de posibilidad HI'!BI10<=Hoja1!$D$7,IF('Tabla de posibilidad Requisitos'!BI10=1,IF('Tabla de posibilidad Localizaci'!BI10=1,1+MAX($C10:BH10),"."),"."),"."),".") -> 43
A11: Médico en servicio activo | C11: =IF('Tabla de posibilidad HG'!C11<=Hoja1!$D$8,IF('Tabla de posibilidad HI'!C11<=Hoja1!$D$7,IF('Tabla de posibilidad Requisitos'!C11=1,IF('Tabla de posibilidad Localizaci'!C11=1,1,"."),"."),"."),".") -> . | D11: =IF('Tabla de posibilidad HG'!D11<=Hoja1!$D$8,IF('Tabla de posibilidad HI'!D11<=Hoja1!$D$7,IF('Tabla de posibilidad Requisitos'!D11=1,IF('Tabla de posibilidad Localizaci'!D11=1,1+$C11,"."),"."),"."),".") -> . | E11: =IF('Tabla de posibilidad HG'!E11<=Hoja1!$D$8,IF('Tabla de posibilidad HI'!E11<=Hoja1!$D$7,IF('Tabla de posibilidad Requisitos'!E11=1,IF('Tabla de posibilidad Localizaci'!E11=1,1+MAX($C11:D11),"."),"."),"."),".") -> . | F11: =IF('Tabla de posibilidad HG'!F11<=Hoja1!$D$8,IF('Tabla de posibilidad HI'!F11<=Hoja1!$D$7,IF('Tabla de posibilidad Requisitos'!F11=1,IF('Tabla de posibilidad Localizaci'!F11=1,1+MAX($C11:E11),"."),"."),"."),".") -> . | G11: =IF('Tabla de posibilidad HG'!G11<=Hoja1!$D$8,IF('Tabla de posibilidad HI'!G11<=Hoja1!$D$7,IF('Tabla de posibilidad Requisitos'!G11=1,IF('Tabla de posibilidad Localizaci'!G11=1,1+MAX($C11:F11),"."),"."),"."),".") -> . | H11: =IF('Tabla de posibilidad HG'!H11<=Hoja1!$D$8,IF('Tabla de posibilidad HI'!H11<=Hoja1!$D$7,IF('Tabla de posibilidad Requisitos'!H11=1,IF('Tabla de posibilidad Localizaci'!H11=1,1+MAX($C11:G11),"."),"."),"."),".") -> . | I11: =IF('Tabla de posibilidad HG'!I11<=Hoja1!$D$8,IF('Tabla de posibilidad HI'!I11<=Hoja1!$D$7,IF('Tabla de posibilidad Requisitos'!I11=1,IF('Tabla de posibilidad Localizaci'!I11=1,1+MAX($C11:H11),"."),"."),"."),".") -> . | J11: =IF('Tabla de posibilidad HG'!J11<=Hoja1!$D$8,IF('Tabla de posibilidad HI'!J11<=Hoja1!$D$7,IF('Tabla de posibilidad Requisitos'!J11=1,IF('Tabla de posibilidad Localizaci'!J11=1,1+MAX($C11:I11),"."),"."),"."),".") -> . | K11: =IF('Tabla de posibilidad HG'!K11<=Hoja1!$D$8,IF('Tabla de posibilidad HI'!K11<=Hoja1!$D$7,IF('Tabla de posibilidad Requisitos'!K11=1,IF('Tabla de posibilidad Localizaci'!K11=1,1+MAX($C11:J11),"."),"."),"."),".") -> . | L11: =IF('Tabla de posibilidad HG'!L11<=Hoja1!$D$8,IF('Tabla de posibilidad HI'!L11<=Hoja1!$D$7,IF('Tabla de posibilidad Requisitos'!L11=1,IF('Tabla de posibilidad Localizaci'!L11=1,1+MAX($C11:K11),"."),"."),"."),".") -> . | ... BI11: =IF('Tabla de posibilidad HG'!BI11<=Hoja1!$D$8,IF('Tabla de posibilidad HI'!BI11<=Hoja1!$D$7,IF('Tabla de posibilidad Requisitos'!BI11=1,IF('Tabla de posibilidad Localizaci'!BI11=1,1+MAX($C11:BH11),"."),"."),"."),".") -> .
A12: Cuerpo médico del ejército | C12: =IF('Tabla de posibilidad HG'!C12<=Hoja1!$D$8,IF('Tabla de posibilidad HI'!C12<=Hoja1!$D$7,IF('Tabla de posibilidad Requisitos'!C12=1,IF('Tabla de posibilidad Localizaci'!C12=1,1,"."),"."),"."),".") -> . | D12: =IF('Tabla de posibilidad HG'!D12<=Hoja1!$D$8,IF('Tabla de posibilidad HI'!D12<=Hoja1!$D$7,IF('Tabla de posibilidad Requisitos'!D12=1,IF('Tabla de posibilidad Localizaci'!D12=1,1+$C12,"."),"."),"."),".") -> . | E12: =IF('Tabla de posibilidad HG'!E12<=Hoja1!$D$8,IF('Tabla de posibilidad HI'!E12<=Hoja1!$D$7,IF('Tabla de posibilidad Requisitos'!E12=1,IF('Tabla de posibilidad Localizaci'!E12=1,1+MAX($C12:D12),"."),"."),"."),".") -> . | F12: =IF('Tabla de posibilidad HG'!F12<=Hoja1!$D$8,IF('Tabla de posibilidad HI'!F12<=Hoja1!$D$7,IF('Tabla de posibilidad Requisitos'!F12=1,IF('Tabla de posibilidad Localizaci'!F12=1,1+MAX($C12:E12),"."),"."),"."),".") -> . | G12: =IF('Tabla de posibilidad HG'!G12<=Hoja1!$D$8,IF('Tabla de posibilidad HI'!G12<=Hoja1!$D$7,IF('Tabla de posibilidad Requisitos'!G12=1,IF('Tabla de posibilidad Localizaci'!G12=1,1+MAX($C12:F12),"."),"."),"."),".") -> . | H12: =IF('Tabla de posibilidad HG'!H12<=Hoja1!$D$8,IF('Tabla de posibilidad HI'!H12<=Hoja1!$D$7,IF('Tabla de posibilidad Requisitos'!H12=1,IF('Tabla de posibilidad Localizaci'!H12=1,1+MAX($C12:G12),"."),"."),"."),".") -> . | I12: =IF('Tabla de posibilidad HG'!I12<=Hoja1!$D$8,IF('Tabla de posibilidad HI'!I12<=Hoja1!$D$7,IF('Tabla de posibilidad Requisitos'!I12=1,IF('Tabla de posibilidad Localizaci'!I12=1,1+MAX($C12:H12),"."),"."),"."),".") -> . | J12: =IF('Tabla de posibilidad HG'!J12<=Hoja1!$D$8,IF('Tabla de posibilidad HI'!J12<=Hoja1!$D$7,IF('Tabla de posibilidad Requisitos'!J12=1,IF('Tabla de posibilidad Localizaci'!J12=1,1+MAX($C12:I12),"."),"."),"."),".") -> . | K12: =IF('Tabla de posibilidad HG'!K12<=Hoja1!$D$8,IF('Tabla de posibilidad HI'!K12<=Hoja1!$D$7,IF('Tabla de posibilidad Requisitos'!K12=1,IF('Tabla de posibilidad Localizaci'!K12=1,1+MAX($C12:J12),"."),"."),"."),".") -> . | L12: =IF('Tabla de posibilidad HG'!L12<=Hoja1!$D$8,IF('Tabla de posibilidad HI'!L12<=Hoja1!$D$7,IF('Tabla de posibilidad Requisitos'!L12=1,IF('Tabla de posibilidad Localizaci'!L12=1,1+MAX($C12:K12),"."),"."),"."),".") -> . | ... BI12: =IF('Tabla de posibilidad HG'!BI12<=Hoja1!$D$8,IF('Tabla de posibilidad HI'!BI12<=Hoja1!$D$7,IF('Tabla de posibilidad Requisitos'!BI12=1,IF('Tabla de posibilidad Localizaci'!BI12=1,1+MAX($C12:BH12),"."),"."),"."),".") -> .
